BEGIN:VCALENDAR
PRODID:-//land-h10284//EN
VERSION:2.0
BEGIN:VEVENT
SUMMARY:Land of Land, Inc: The Steadiest Investment: Vacant Land USA!
PRIORITY:0
CLASS:PUBLIC
DTSTART:20260422T140000Z
DTEND:20260429T165000Z
DESCRIPTION:
X-ALT-DESC;FMTTYPE=text/html:
LOCATION:PO Box 66, Swedesboro, New Jersey, 08085, United States
END:VEVENT
END:VCALENDAR